BEGIN:VCALENDAR
VERSION:2.0
BEGIN:VEVENT
UID:DFAD74B9-49BF-43C1-81D4-0D09754FDD85
DTSTART:20241026T180000Z
DTEND:20241026T210000Z
SUMMARY:CityLine LIVE featuring Texas Jazz Cats
DESCRIPTION:CityLine LIVE is back in time for the fall season at CityLine i
 n Richardson. Tune in every Friday and Saturday for a lineup of local tale
 nt with various music genres that include pop\, rock\, blues\, county\, ja
 zz\, latin\, and so much more. From Sept. 6 through Oct. 28\, guests can e
 njoy the free outdoor music series from 6-9 p.m. in The Plaza. CityLine LI
 VE is BYOB\, dog-friendly and family-friendly.\nCityLine Plaza\n1150 State
  St\nRichardson\, TX 75082 United States\n
LOCATION:1150 State St\, Richardson\, TX 75082
URL:http://addison.bubblelife.com/community/addison_calendar/library/356744
 01/key/3511829524/CityLine_LIVE_featuring_Texas_Jazz_Cats
CREATED:20240903T181707Z
LAST-MODIFIED:20240903T181707Z
DTSTAMP:20260423T031144Z
CLASS:PUBLIC
STATUS:CONFIRMED
TRANSP:TRANSPARENT
SEQUENCE:1
END:VEVENT
END:VCALENDAR
