BEGIN:VCALENDAR
VERSION:2.0
BEGIN:VEVENT
UID:44210049-7A73-42B9-8003-BBB844501780
DTSTART:20241012T190000Z
DTEND:20241012T210000Z
SUMMARY:Spooky Movie Series in the PGA District
DESCRIPTION:Ghosts and goblins of all ages are invited to attend compliment
 ary family-friendly movies all month long. Get ready for spooky season wit
 h these Halloween titles. All movies will begin at 7 p.m. Guests are encou
 raged to bring a lawn blanket to sit on. PGA District restaurants will be
  open to serve your favorite foods before and after each show\; concession
  snacks will be available to purchase from roaming carts. Outside food and
  drinks are not permitted nor are lawn chairs. \nSubscribe to the Omni PGA
  Frisco newsletter to learn about upcoming movie titles.\nOmni PGA Frisco\
 n3255 PGA Parkway\nFrisco\, TX 75033 United States\n
LOCATION:3255 PGA Parkway\, Frisco\, TX 75033
URL:http://addison.bubblelife.com/community/addison_calendar/library/356744
 01/key/3511831381/Spooky_Movie_Series_in_the_PGA_District
CREATED:20241008T211433Z
LAST-MODIFIED:20241008T211433Z
DTSTAMP:20260423T031139Z
CLASS:PUBLIC
STATUS:CONFIRMED
TRANSP:TRANSPARENT
SEQUENCE:1
END:VEVENT
END:VCALENDAR
