BEGIN:VCALENDAR
VERSION:2.0
BEGIN:VEVENT
UID:FF1A0CDF-1F4C-4F4F-8F39-2D90EE367EDF
DTSTART:20241018T190000Z
DTEND:20241018T210000Z
SUMMARY:Spooky Movie Series in the PGA District
DESCRIPTION:Ghosts and goblins of all ages are invited to attend compliment
 ary family-friendly movies all month long. Get ready for spooky season wit
 h these Halloween titles. All movies will begin at 7 p.m. Guests are encou
 raged to bring a lawn blanket to sit on. PGA District restaurants will be
  open to serve your favorite foods before and after each show\; concession
  snacks will be available to purchase from roaming carts. Outside food and
  drinks are not permitted nor are lawn chairs. \nSubscribe to the Omni PGA
  Frisco newsletter to learn about upcoming movie titles.\nOmni PGA Frisco\
 n3255 PGA Parkway\nFrisco\, TX 75033 United States\n
LOCATION:3255 PGA Parkway\, Frisco\, TX 75033
URL:http://addison.bubblelife.com/community/addison_calendar/library/356744
 01/key/3511831791/Spooky_Movie_Series_in_the_PGA_District
CREATED:20241008T211632Z
LAST-MODIFIED:20241008T211632Z
DTSTAMP:20260423T031144Z
CLASS:PUBLIC
STATUS:CONFIRMED
TRANSP:TRANSPARENT
SEQUENCE:1
END:VEVENT
END:VCALENDAR
