BEGIN:VCALENDAR
VERSION:2.0
BEGIN:VEVENT
UID:BE7159C6-916A-40F0-974C-C8600C0594F3
DTSTART:20241010T160000Z
DTEND:20241010T230000Z
SUMMARY:Game Days in the PGA District
DESCRIPTION:Football season is here\, and there’s no better place to catch
  the action than Lounge by Topgolf! Watch the games on the big screens whi
 le enjoying the new Game Day Menu\, available on Sundays\, Mondays and Thu
 rsdays. \nIndulge in delicious tailgate bites like loaded nachos or street
  corn fries and sip on specialty beverages\, like the new Beer Colada! Cel
 ebrate game day with winning flavors\, fun and unforgettable moments.\nOmn
 i PGA Frisco\n3255 PGA Parkway\nFrisco\, TX 75033 United States\n
LOCATION:3255 PGA Parkway\, Frisco\, TX 75033
URL:http://addison.bubblelife.com/community/addison_calendar/library/356744
 01/key/3511831803/Game_Days_in_the_PGA_District
CREATED:20241008T220853Z
LAST-MODIFIED:20241008T220853Z
DTSTAMP:20260423T031052Z
CLASS:PUBLIC
STATUS:CONFIRMED
TRANSP:TRANSPARENT
SEQUENCE:1
END:VEVENT
END:VCALENDAR
