BEGIN:VCALENDAR
VERSION:2.0
BEGIN:VEVENT
UID:B80F9570-1E34-4731-AFF0-617DF3D7A512
DTSTART:20241026T113000Z
DTEND:20241026T120000Z
SUMMARY:Showtime Saturdays at Galleria Dallas
DESCRIPTION:Showtime Saturdays at Galleria Dallas provides a variety of cap
 tivating shows by professional circus clowns\, magicians and kid-friendly
  comedians. Every Saturday\, children and families are welcome to enjoy th
 is free\, in-person entertainment series. On Saturday\, Oct. 26\, enjoy th
 e Magic Mike Williams show.  The half-comedian\, half-magician will surely
  entertain with his sleight-of-hand tricks and comedy magic. The show will
  be on level three\, near the children's play place.\nGalleria Dallas\n133
 50 Dallas Parkway\,\nDallas\, TX\, 75240 United States\n
LOCATION:13350 Dallas Parkway\,\, Dallas\, TX\, 75240
URL:http://addison.bubblelife.com/community/addison_calendar/library/356744
 01/key/3511833883/Showtime_Saturdays_at_Galleria_Dallas
CREATED:20241015T173545Z
LAST-MODIFIED:20241015T173545Z
DTSTAMP:20260423T031143Z
CLASS:PUBLIC
STATUS:CONFIRMED
TRANSP:TRANSPARENT
SEQUENCE:1
END:VEVENT
END:VCALENDAR
