BEGIN:VCALENDAR
VERSION:2.0
BEGIN:VEVENT
UID:3B49DD9E-5290-4029-A163-BA514AE654CF
DTSTART:20241025T180000Z
DTEND:20241025T210000Z
SUMMARY:"Boos" Crawl at PGA Frisco
DESCRIPTION:Get in the spooky spirit with an adults-only “boos” crawl! This
  event features 10 haunting cocktail samples\, including a Tito’s Transfus
 ion Syringe Shot\, Pumpkin Spice Latte Martini\, There Will Be Blood…Orang
 e Mezcal\, The Bride of Frankenstein Whiskey Cocktail\, Day of The Dead Ma
 rgarita\, and more! \n  \nBetween sips\, enjoy entertainment from a live t
 arot card reader and a classic photo booth. \n  \nBe sure to wear your cos
 tume as we’ll have scary-good prizes to award to the best dressed! \n  \nT
 his is an outdoor event. Must be 21+ to participate and photo IDs will be
  required at check-in. Cocktail sample offerings subject to change. Advanc
 e ticket purchase is recommended.\nOmni PGA Frisco\n3255 PGA Parkway\nFris
 co\, TX 75033 United States\n
LOCATION:3255 PGA Parkway\, Frisco\, TX 75033
URL:http://addison.bubblelife.com/community/addison_calendar/library/356744
 01/key/3511835600/Boos_Crawl_at_PGA_Frisco
CREATED:20241010T203436Z
LAST-MODIFIED:20241010T203436Z
DTSTAMP:20260423T031054Z
CLASS:PUBLIC
STATUS:CONFIRMED
TRANSP:TRANSPARENT
SEQUENCE:1
END:VEVENT
END:VCALENDAR
