BEGIN:VCALENDAR
VERSION:2.0
BEGIN:VEVENT
UID:DC1299BB-F4C8-47B5-A107-3FA4C85D091D
DTSTART:20241026T180000Z
DTEND:20241026T210000Z
SUMMARY:Halloween Par-Tee at PGA Frisco
DESCRIPTION:Get in the spooky spirit with an un-fore-gettable Halloween Par
 -Tee at PGA Frisco! This family-friendly event will feature: \n-
           Pumpkin putting patch on The Dance Floor \n-          Treat-or-t
 reating from decorated golf carts \n-          Tee-rrific prizes at carniv
 al game booths \n-          Face painting to match your costume \n-
           Movie on the lawn at 7 p.m. \n-          Fun and festive photo o
 pportunities \n-          Fall-favorite concessions available for purchase
  \n  \nBe sure to wear your costume and bring a treat bag! Lawn blankets a
 re encouraged for guests who would like to relax on the event lawn to view
  the movie. Lawn chairs are not permitted. \n  \nAll children participatin
 g in activities will require a ticket. Adult chaperones that are not parti
 cipating in activities should reserve a complimentary adult ticket. Advanc
 e ticket purchase is highly recommended as this event will sell out.\nOmni
  PGA Frisco\n3255 PGA Parkway\nFrisco\, TX 75033 United States\n
LOCATION:3255 PGA Parkway\, Frisco\, TX 75033
URL:http://addison.bubblelife.com/community/addison_calendar/library/356744
 01/key/3511835622/Halloween_Par-Tee_at_PGA_Frisco
CREATED:20241010T203605Z
LAST-MODIFIED:20241010T203605Z
DTSTAMP:20260423T031053Z
CLASS:PUBLIC
STATUS:CONFIRMED
TRANSP:TRANSPARENT
SEQUENCE:1
END:VEVENT
END:VCALENDAR
