BEGIN:VCALENDAR
VERSION:2.0
BEGIN:VEVENT
UID:7E89AF49-D900-48BD-8E9D-31A9BAAD0DF2
DTSTART:20241019T180000Z
DTEND:20241019T200000Z
SUMMARY:Live 90's Concert at Omni PGA Frisco
DESCRIPTION:Live 90’s is dedicated to transporting you to the age of grunge
 \, boy bands and iconic pop hits of the 90s. Prepare yourself for a nostal
 gic journey filled with the sounds of Nirvana\, Backstreet Boys\, Spice Gi
 rls and many more. Live 90s ensures a high-energy blast from the past when
  flannel shirts and baggy jeans ruled! No tickets required. \n  \n \nOutsi
 de food and drinks are not permitted nor are lawn chairs.\nOmni PGA Frisco
 \n3255 PGA Parkway\nFrisco\, TX 75033 United States\n
LOCATION:3255 PGA Parkway\, Frisco\, TX 75033
URL:http://addison.bubblelife.com/community/addison_calendar/library/356744
 01/key/3511836752/Live_90s_Concert_at_Omni_PGA_Frisco
CREATED:20241009T185328Z
LAST-MODIFIED:20241009T185328Z
DTSTAMP:20260423T031143Z
CLASS:PUBLIC
STATUS:CONFIRMED
TRANSP:TRANSPARENT
SEQUENCE:1
END:VEVENT
END:VCALENDAR
