BEGIN:VCALENDAR
VERSION:2.0
BEGIN:VEVENT
UID:A0ECF778-E6B5-44F1-B70B-4C83634DC400
DTSTART:20241019T110000Z
DTEND:20241019T130000Z
SUMMARY:Little Designers in the PGA District
DESCRIPTION:Head to the Monument Realty PGA District for a family-friendly
  Halloween treat brought to you by Playful Kids Club! Kids will decorate t
 heir own Halloween cookies to celebrate the spooky season. This come-and-g
 o event is the perfect way for your children to welcome the new season. \n
   \nRegistration is $20 per child. Adult supervision is required. Advanced
  registration is recommend as space is limited at this event.\nOmni PGA Fr
 isco\n3255 PGA Parkway\nFrisco\, TX 75033 United States\n
LOCATION:3255 PGA Parkway\, Frisco\, TX 75033
URL:http://addison.bubblelife.com/community/addison_calendar/library/356744
 01/key/3511836763/Little_Designers_in_the_PGA_District
CREATED:20241009T185430Z
LAST-MODIFIED:20241009T185430Z
DTSTAMP:20260423T031143Z
CLASS:PUBLIC
STATUS:CONFIRMED
TRANSP:TRANSPARENT
SEQUENCE:1
END:VEVENT
END:VCALENDAR
