BEGIN:VCALENDAR
VERSION:2.0
BEGIN:VEVENT
UID:B7D431F7-D943-4163-883B-4498C222A5C8
DTSTART:20241107T103000Z
DTEND:20241107T110000Z
SUMMARY:PALS Showtime at Galleria Dallas
DESCRIPTION:On the first Thursday of the month\, children are invited to st
 ep into the spotlight with PALS Showtime. These interactive events offer o
 pportunities for kids to dance\, sing\, learn and play. On Thursday\, Nov.
  7\, enjoy a show from David Chicken. Three-time Emmy Award-Winning musici
 an David Chicken leads the kids through high-energy\, interactive performa
 nces. Join David to sing\, play musical instruments and be a star! The sho
 w will be on level 3\, near the children’s play place.\nGalleria Dallas\n1
 3350 Dallas Parkway\,\nDallas\, TX\, 75240 United States\n
LOCATION:13350 Dallas Parkway\,\, Dallas\, TX\, 75240
URL:http://addison.bubblelife.com/community/addison_calendar/library/356744
 01/key/3511837422/PALS_Showtime_at_Galleria_Dallas
CREATED:20241017T145529Z
LAST-MODIFIED:20241017T145529Z
DTSTAMP:20260423T031139Z
CLASS:PUBLIC
STATUS:CONFIRMED
TRANSP:TRANSPARENT
SEQUENCE:1
END:VEVENT
END:VCALENDAR
