BEGIN:VCALENDAR
VERSION:2.0
BEGIN:VEVENT
UID:64128372-F10A-460E-A273-1499624781AD
DTSTART:20241205T103000Z
DTEND:20241205T110000Z
SUMMARY:PALS Showtime at Galleria Dallas
DESCRIPTION:On the first Thursday of the month\, children are invited to st
 ep into the spotlight with PALS Showtime. These interactive events offer o
 pportunities for kids to dance\, sing\, learn and play. On Thursday\, Dec.
  5\, enjoy a show from the Juicebox Jukebox. Join The Juicebox Jukebox for
  fun and educational kid’s music focused on core subjects and character-bu
 ilding themes that parents can enjoy\, too! The show will be on level 3\,
  near the children's play place.\nGalleria Dallas\n13350 Dallas Parkway\,\
 nDallas\, TX\, 75240 United States\n
LOCATION:13350 Dallas Parkway\,\, Dallas\, TX\, 75240
URL:http://addison.bubblelife.com/community/addison_calendar/library/356744
 01/key/3511837483/PALS_Showtime_at_Galleria_Dallas
CREATED:20241017T145624Z
LAST-MODIFIED:20241017T145624Z
DTSTAMP:20260423T014050Z
CLASS:PUBLIC
STATUS:CONFIRMED
TRANSP:TRANSPARENT
SEQUENCE:1
END:VEVENT
END:VCALENDAR
