BEGIN:VCALENDAR
VERSION:2.0
BEGIN:VEVENT
UID:29E46944-D10B-4A40-8929-0C9468FB5B5B
DTSTART:20241217T103000Z
DTEND:20241217T110000Z
SUMMARY:Storytime Adventures at Galleria Dallas
DESCRIPTION:The new Storytime Adventures series features award-winning auth
 or Nancy Churnin. Churnin will read from her popular children’s books that
  intertwine historical fiction with captivating illustrations. On Tuesday\
 , Dec. 17\, join author Nancy Churnin for a reading of her holiday tale\,
  “The Queen and the First Christmas Tree.” Don’t miss this festive reading
  about a favorite holiday tradition many know and love. The story will be
  read on level 3\, near the children’s play place.\nGalleria Dallas\n13350
  Dallas Parkway\,\nDallas\, TX\, TX 75240 United States\n
LOCATION:13350 Dallas Parkway\,\, Dallas\, TX\, TX 75240
URL:http://addison.bubblelife.com/community/addison_calendar/library/356744
 01/key/3511838704/Storytime_Adventures_at_Galleria_Dallas
CREATED:20241014T220223Z
LAST-MODIFIED:20241014T220223Z
DTSTAMP:20260423T001901Z
CLASS:PUBLIC
STATUS:CONFIRMED
TRANSP:TRANSPARENT
SEQUENCE:1
END:VEVENT
END:VCALENDAR
