BEGIN:VCALENDAR
VERSION:2.0
BEGIN:VEVENT
UID:28457DED-F654-4C39-94C2-6FEB1E86D12D
DTSTART:20241019T113000Z
DTEND:20241019T120000Z
SUMMARY:Showtime Saturdays at Galleria Dallas
DESCRIPTION:Showtime Saturdays at Galleria Dallas provides a variety of cap
 tivating shows by professional circus clowns\, magicians and kid-friendly
  comedians. Every Saturday\, children and families are welcome to enjoy th
 is free\, in-person entertainment series. On Saturday\, Oct. 19\, enjoy a
  show from The Ramazinis. Former Ringling Bros Circus clowns bring the lau
 ghs with comedy\, juggling\, magic and acrobatics. The show will be on lev
 el three\, near the children's play place.\nGalleria Dallas\n13350 Dallas
  Parkway\,\nDallas\, TX\, TX 75240 United States\n
LOCATION:13350 Dallas Parkway\,\, Dallas\, TX\, TX 75240
URL:http://addison.bubblelife.com/community/addison_calendar/library/356744
 01/key/3511838754/Showtime_Saturdays_at_Galleria_Dallas
CREATED:20241014T220914Z
LAST-MODIFIED:20241014T220914Z
DTSTAMP:20260423T031142Z
CLASS:PUBLIC
STATUS:CONFIRMED
TRANSP:TRANSPARENT
SEQUENCE:1
END:VEVENT
END:VCALENDAR
