BEGIN:VCALENDAR
VERSION:2.0
BEGIN:VEVENT
UID:579763D7-A334-4331-A454-0AEA69423114
DTSTART:20241022T103000Z
DTEND:20241022T110000Z
SUMMARY:Storytime at Galleria Dallas
DESCRIPTION:The new Storytime Adventures series features award-winning auth
 or Nancy Churnin. Churnin will read from her popular children’s books that
  intertwine historical fiction with captivating illustrations. On Tuesday\
 , Oct. 22\,  join author Nancy Churnin for a reading of her original Hallo
 ween-themed children’s book\, “Lila and the Jack-O’-Lantern.” Enjoy Lila’s
  journey to bring a now-beloved Halloween tradition to America. The story
  will be on level 3\, near the children’s play place.\nGalleria Dallas\n13
 350 Dallas Parkway\,\nDallas\, TX\, TX 75240 United States\n
LOCATION:13350 Dallas Parkway\,\, Dallas\, TX\, TX 75240
URL:http://addison.bubblelife.com/community/addison_calendar/library/356744
 01/key/3511838793/Storytime_at_Galleria_Dallas
CREATED:20241018T193715Z
LAST-MODIFIED:20241018T193715Z
DTSTAMP:20260423T031142Z
CLASS:PUBLIC
STATUS:CONFIRMED
TRANSP:TRANSPARENT
SEQUENCE:1
END:VEVENT
END:VCALENDAR
