BEGIN:VCALENDAR
VERSION:2.0
BEGIN:VEVENT
UID:5F0F9D58-30C3-42A8-A8E1-FCA055481D7F
DTSTART:20241111T000000Z
DTEND:20241112T000000Z
SUMMARY:Veterans Day at Cantina Laredo
DESCRIPTION:In recognition of Veterans Day\, restaurants owned and operated
  by Consolidated Restaurant Operations will offer a complimentary meal to
  all veterans and active-duty military personnel on Monday\, Nov. 11.   Ca
 ntina Laredo will offer guests with proof of military service a free entré
 e up to $25 value for all Veterans. \nAdditionally\, on Veterans Day Catin
 a Laredo will host a haunting visual – a Missing Warrior table\, which use
 s various symbols to recognize those who served and died.\nCantina Laredo\
 n4546 Belt Line Road Addison TX 75244\nAddison\, TX 75087 United States\n
LOCATION:4546 Belt Line Road Addison TX 75244\, Addison\, TX 75087
URL:http://addison.bubblelife.com/community/addison_calendar/library/356744
 01/key/3511870902/Veterans_Day_at_Cantina_Laredo
CREATED:20241024T212516Z
LAST-MODIFIED:20241024T212516Z
DTSTAMP:20260423T013219Z
CLASS:PUBLIC
STATUS:CONFIRMED
TRANSP:TRANSPARENT
SEQUENCE:1
END:VEVENT
END:VCALENDAR
