BEGIN:VCALENDAR
VERSION:2.0
BEGIN:VEVENT
UID:D2A77B16-5266-4985-8E89-19911668BB7D
DTSTART:20241111T000000Z
DTEND:20241112T000000Z
SUMMARY:Luckys Celebrates Veterans with a Free Meal
DESCRIPTION:In recognition of Veterans Day\, restaurants owned and operated
  by Consolidated Restaurant Operations will offer a complimentary meal to
  all veterans and active-duty military personnel on Monday\, Nov. 11. Luck
 ys\, Dallas’ most iconic diner\, will offer guests with proof of military
  service  a free entrée up to $25. \nAdditionally\, on Veterans Day Luckys
  will host a haunting visual – a Missing Warrior table\, which uses variou
 s symbols to recognize those who served and died.\nLuckys\n3531 Oak Lawn\n
 Dallas\, TX 75219 United States\n
LOCATION:3531 Oak Lawn\, Dallas\, TX 75219
URL:http://addison.bubblelife.com/community/addison_calendar/library/356744
 01/key/3511870913/Luckys_Celebrates_Veterans_with_a_Free_Meal
CREATED:20241024T213010Z
LAST-MODIFIED:20241024T213010Z
DTSTAMP:20260423T014050Z
CLASS:PUBLIC
STATUS:CONFIRMED
TRANSP:TRANSPARENT
SEQUENCE:1
END:VEVENT
END:VCALENDAR
