BEGIN:VCALENDAR
VERSION:2.0
BEGIN:VEVENT
UID:863F9D13-B4DC-45D2-9D3C-FC32D0AA1089
DTSTART:20241111T000000Z
DTEND:20241112T000000Z
SUMMARY:Veterans Day at Silver Fox
DESCRIPTION:In recognition of Veterans Day\, restaurants owned and operated
  by Consolidated Restaurant Operations will offer a complimentary meal to
  all veterans and active-duty military personnel on Monday\, Nov. 11. Silv
 er Fox\, North Texas’ favorite steakhouse\, will offer guests with proof o
 f military service with $30 off an entrée. \nAdditionally\, on Veterans Da
 y\, Silver Fox will host a haunting visual – a Missing Warrior table\,whic
 h uses various symbols to recognize those who served and died.\nSilver Fox
 \n3650 Shire Blvd\nRichardson\, TX 75082 United States\n
LOCATION:3650 Shire Blvd\, Richardson\, TX 75082
URL:http://addison.bubblelife.com/community/addison_calendar/library/356744
 01/key/3511870941/Veterans_Day_at_Silver_Fox
CREATED:20241024T213125Z
LAST-MODIFIED:20241024T213125Z
DTSTAMP:20260423T013219Z
CLASS:PUBLIC
STATUS:CONFIRMED
TRANSP:TRANSPARENT
SEQUENCE:1
END:VEVENT
END:VCALENDAR
