BEGIN:VCALENDAR
VERSION:2.0
BEGIN:VEVENT
UID:DA259B3E-6233-4D4F-B426-4507D7AEAB67
DTSTART:20241110T000000Z
DTEND:20241111T000000Z
SUMMARY:Veterans Day at Omni PGA Frisco
DESCRIPTION:From Saturday\, Nov. 9\, through Monday\, Nov. 11\, veterans an
 d active-duty military personnel will receive 25% off food and non-alcohol
 ic beverages at Ice House and Lounge by Topgolf. Veterans and active-duty
  personnel must show a valid military ID to enjoy this exclusive discount.
   \nAs Veterans Day approaches\, Omni PGA Frisco will honor the brave men
  and women who have served our county with events and discounts throughout
  the Monument Realty PGA District.\nOmni PGA Frisco\n3225 PGA Parkway\nFri
 sco\, TX 75033 United States\n
LOCATION:3225 PGA Parkway\, Frisco\, TX 75033
URL:http://addison.bubblelife.com/community/addison_calendar/library/356744
 01/key/3511870952/Veterans_Day_at_Omni_PGA_Frisco
CREATED:20241024T212741Z
LAST-MODIFIED:20241024T212741Z
DTSTAMP:20260423T031053Z
CLASS:PUBLIC
STATUS:CONFIRMED
TRANSP:TRANSPARENT
SEQUENCE:1
END:VEVENT
END:VCALENDAR
