BEGIN:VCALENDAR
VERSION:2.0
BEGIN:VEVENT
UID:290DB432-7AF7-47CA-AB66-5C4859AEADEF
DTSTART:20241111T000000Z
DTEND:20241112T000000Z
SUMMARY:Veterans Day at The Statler
DESCRIPTION:The Statler\, a Curio Collection by Hilton hotel managed by Aim
 bridge Hospitality\, is proud to honor the brave men and women who have se
 rved in the U.S. military on Veterans Day. On Monday\, Nov. 11\, all veter
 ans and active-duty military personnel are invited to The Statler’s dining
  and drinking outlets\, where they’ll receive 25% off all food and beverag
 e. This special offer is a token of appreciation for their service to our
  country. \n  \nThe discount will be available throughout the day at: \n
   Waterproof \, the acclaimed rooftop lounge with stunning Downtown Dallas
  views Scout \, North Texas’ favorite entertainment destination Bourbon &
  Banter \, the underground speakeasy located in The Statler Overeasy \, do
 wntown’s go-to spot for breakfast\, brunch and lunch. \n  \nFor more infor
 mation about The Statler’s restaurants\, please visit thestatlerdallas.com
  .\nStatler Dallas\n1914 Commerce St.\,\nDallas\, TX 75201 United States\n
LOCATION:1914 Commerce St.\,\, Dallas\, TX 75201
URL:http://addison.bubblelife.com/community/addison_calendar/library/356744
 01/key/3511871510/Veterans_Day_at_The_Statler
CREATED:20241021T212301Z
LAST-MODIFIED:20241021T212301Z
DTSTAMP:20260423T013216Z
CLASS:PUBLIC
STATUS:CONFIRMED
TRANSP:TRANSPARENT
SEQUENCE:1
END:VEVENT
END:VCALENDAR
