BEGIN:VCALENDAR
VERSION:2.0
BEGIN:VEVENT
UID:9C0597C5-94C8-4E69-91E6-25CD3245ACD1
DTSTART:20241026T083000Z
DTEND:20241026T110000Z
SUMMARY:Frisco Arts 5K at Kaleidoscope Park
DESCRIPTION:On Saturday\, Oct. 26\, Kaleidoscope Park\,  the 5.7-acre signa
 ture park in Frisco\, will be home for the seventh annual  Frisco Arts 5K
   sponsored by  Baylor Scott & White Health . This year’s start\, finish a
 nd post-race festivities will take place in Kaleidoscope Park. The Frisco
  Arts 5K is a family-friendly event open to all ages and fitness levels\,
  aimed at celebrating the North Texas arts community. Race participants wi
 ll enjoy a unique route filled with interactive artists including musician
 s\, dancers and actors. Proceeds from this event will support  Frisco Arts
  Foundation  and  Kaleidoscope Park Foundation . Registration for this yea
 r’s run can be found here .\nKaleidoscope Park\n6635 Warren Parkway\nFrisc
 o\, TX 75034 United States\n
LOCATION:6635 Warren Parkway\, Frisco\, TX 75034
URL:http://addison.bubblelife.com/community/addison_calendar/library/356744
 01/key/3511871762/Frisco_Arts_5K_at_Kaleidoscope_Park
CREATED:20241023T192829Z
LAST-MODIFIED:20241023T192829Z
DTSTAMP:20260423T031053Z
CLASS:PUBLIC
STATUS:CONFIRMED
TRANSP:TRANSPARENT
SEQUENCE:1
END:VEVENT
END:VCALENDAR
