BEGIN:VCALENDAR
VERSION:2.0
BEGIN:VEVENT
UID:C6D84E27-F2BB-4964-81AE-30344CB17277
DTSTART:20241221T113000Z
DTEND:20241221T120000Z
SUMMARY:Showtime Saturdays at Galleria Dallas
DESCRIPTION:Showtime Saturdays at Galleria Dallas provides a variety of cap
 tivating shows by professional circus clowns\, magicians and kid-friendly
  comedians. Every Saturday\, children and families are welcome to enjoy th
 is free\, in-person entertainment series. On Saturday\, Dec. 21\, enjoy a
  show from David Chicken. Three-time Emmy Award-Winning musician David Chi
 cken leads the kids through high-energy\, interactive performances. Join D
 avid to sing\, play musical instruments and be a star! The show will be on
  level 3\, near the children's play place.\nGalleria Dallas\n13350 Dallas
  Parkway\,\nDallas\, TX\, TX 75240 United States\n
LOCATION:13350 Dallas Parkway\,\, Dallas\, TX\, TX 75240
URL:http://addison.bubblelife.com/community/addison_calendar/library/356744
 01/key/3511874670/Showtime_Saturdays_at_Galleria_Dallas
CREATED:20241018T193447Z
LAST-MODIFIED:20241018T193447Z
DTSTAMP:20260423T001901Z
CLASS:PUBLIC
STATUS:CONFIRMED
TRANSP:TRANSPARENT
SEQUENCE:1
END:VEVENT
END:VCALENDAR
