BEGIN:VCALENDAR
VERSION:2.0
BEGIN:VEVENT
UID:A9114009-ED16-4295-B1DE-E9554AD87AC3
DTSTART:20241101T183000Z
DTEND:20241101T203000Z
SUMMARY:Orin Swift Wine Dinner at Silver Fox
DESCRIPTION:Silver Fox\, North Texas’ favorite neighborhood steakhouse in R
 ichardson\, is inviting guests to an exclusive Orin Swift wine dinner at 6
 :30 p.m. Friday\, Nov. 1. The dinner features an exquisite four-course men
 u with each course curated to pair with a specific Orin Swift wine. \nTick
 ets to the Orin Swift wine dinner at Silver Fox Richardson are $195 per pe
 rson plus tax and gratuity. Seating is very limited\, so call 972-423-8121
  to reserve your spot. \n  \nThe menu features both steak and lobster: \n
  STARTERS \nFried Lobster \nSpinach & Artichoke Dip Phyllo Cups \n Paired
  with Orin Swift Blank Stare Sauvignon Blanc \n  \n SECOND COURSE \nPear E
 ndive Salad \n Paired with Orin Swift Abstract California Red \n  \n THIRD
  COURSE \nSnake River Farm Wagyu Strip Loin \n Paired with Orin Swift Pale
 rmo Cabernet Sauvignon \n  \n DESSERT \nChocolate-Chip Sandwich Cookie \n
  Paired with Orin Swift's 8 Years in the Desert\nSilver Fox\n3650 Shire Bl
 vd\nRichardson\, TX 75082 United States\n
LOCATION:3650 Shire Blvd\, Richardson\, TX 75082
URL:http://addison.bubblelife.com/community/addison_calendar/library/356744
 01/key/3511878084/Orin_Swift_Wine_Dinner_at_Silver_Fox
CREATED:20241031T151908Z
LAST-MODIFIED:20241031T151908Z
DTSTAMP:20260423T031144Z
CLASS:PUBLIC
STATUS:CONFIRMED
TRANSP:TRANSPARENT
SEQUENCE:1
END:VEVENT
END:VCALENDAR
