BEGIN:VCALENDAR
VERSION:2.0
BEGIN:VEVENT
UID:F505BA51-8DF7-4ED3-BF2A-19A567D140C8
DTSTART:20241106T000000Z
DTEND:20241107T000000Z
SUMMARY:National Nacho Day at El Chico
DESCRIPTION:Where better to celebrate National Nacho Day than at an iconic
  Tex-Mex destination? El Chico is offering a big deal for the small holida
 y. All day on Wednesday\, Nov. 6\, the restaurant’s flavorful Fiesta Nacho
 s will be available for the special price of $.99 with the purchase of an
  adult entrée. \nFor more information\, visit www.elchico.com .\nEl Chico\
 n503 Interstate 30\nRockwall\, TX 75087 United States\n
LOCATION:503 Interstate 30\, Rockwall\, TX 75087
URL:http://addison.bubblelife.com/community/addison_calendar/library/356744
 01/key/3511878551/National_Nacho_Day_at_El_Chico
CREATED:20241031T151754Z
LAST-MODIFIED:20241031T151754Z
DTSTAMP:20260423T031140Z
CLASS:PUBLIC
STATUS:CONFIRMED
TRANSP:TRANSPARENT
SEQUENCE:1
END:VEVENT
END:VCALENDAR
