BEGIN:VCALENDAR
VERSION:2.0
BEGIN:VEVENT
UID:14597711-BB49-4197-B8F8-F329594D7223
DTSTART:20240928T180000Z
DTEND:20240928T210000Z
SUMMARY:Beer & Brats at PGA Frisco
DESCRIPTION:Join PGA Frisco for an unforgettable tasting experience\, where
  you can savor the season’s best brews in the vibrant setting of the Monum
 ent Realty PGA District. \nOn Saturday\, Sept. 28\, beer enthusiasts are i
 nvited to enjoy 12 local craft beers\, showcased at tasting stations aroun
 d the Monument Realty PGA District from 6-9 p.m. \nGuests can choose from
  two ticket options: Beer only or Beer and Brat. The Beer-only tickets are
  $30 and include access to all 12 beer tastings. For $42\, the Beer and Br
 at ticket offers the full beer experience plus one brat\, served with your
  choice of toppings (sauerkraut\, caramelized onions\, spicy sauteed peppe
 rs\, relish\, coleslaw\, ketchup\, yellow and stone-ground mustard\, garli
 c aioli) and a side of chips.\nOmni PGA Frisco\n3255 PGA Parkway\nFrisco\,
  TX 75033 United States\n
LOCATION:3255 PGA Parkway\, Frisco\, TX 75033
URL:http://addison.bubblelife.com/community/addison_calendar/library/356744
 01/key/3511884744/Beer_Brats_at_PGA_Frisco
CREATED:20240911T215507Z
LAST-MODIFIED:20240911T215507Z
DTSTAMP:20260423T044740Z
CLASS:PUBLIC
STATUS:CONFIRMED
TRANSP:TRANSPARENT
SEQUENCE:1
END:VEVENT
END:VCALENDAR
