BEGIN:VCALENDAR
VERSION:2.0
BEGIN:VEVENT
UID:68E47C1B-CF15-44BA-981A-0A1E5B854693
DTSTART:20240916T000000Z
DTEND:20240917T000000Z
SUMMARY:National Guacamole Day at PGA Frisco
DESCRIPTION:Happy National Guacamole Day! Head to the PGA District to mark
  the occasion with delicious bites. Enjoy 25% off chips & guacamole at Lou
 nge by Topgolf or stop by Ryder Cup Grille to indulge in the guacamole fli
 ght for 25% off.\nOmni PGA Frisco\n3255 PGA Parkway\nFrisco\, TX 75033 Uni
 ted States\n
LOCATION:3255 PGA Parkway\, Frisco\, TX 75033
URL:http://addison.bubblelife.com/community/addison_calendar/library/356744
 01/key/3511884963/National_Guacamole_Day_at_PGA_Frisco
CREATED:20240909T215705Z
LAST-MODIFIED:20240909T215705Z
DTSTAMP:20260423T044740Z
CLASS:PUBLIC
STATUS:CONFIRMED
TRANSP:TRANSPARENT
SEQUENCE:1
END:VEVENT
END:VCALENDAR
