BEGIN:VCALENDAR
VERSION:2.0
BEGIN:VEVENT
UID:4441649C-1B7E-4C46-B4B6-E16BC3F5AFD7
DTSTART:20240929T100000Z
DTEND:20240929T110000Z
SUMMARY:Rooftop Yoga at Waterproof
DESCRIPTION:Waterproof\, the iconic rooftop pool at The Statler\, has long
  been known for the best nightlife views in Dallas. Now\, guests can enjoy
  the spectacular skyline panorama in the mornings as well. Waterproof is h
 osting a Saturday morning yoga series led by V12 Yoga. Join V12 Yoga at 10
  a.m. every Saturday for an hour-long refreshing rooftop yoga session. Aft
 er finishing sun salutations\, guests can end the session with a refreshin
 g mimosa\, included with admission. Unwind\, breathe and stretch with good
  vibes plus breathtaking 19th-floor views of Dallas.\nWaterproof\n1914 Com
 merce St.\,\nDallas\, TX 75201 United States\n
LOCATION:1914 Commerce St.\,\, Dallas\, TX 75201
URL:http://addison.bubblelife.com/community/addison_calendar/library/356744
 01/key/3511885914/Rooftop_Yoga_at_Waterproof
CREATED:20240926T165955Z
LAST-MODIFIED:20240926T165955Z
DTSTAMP:20260423T044741Z
CLASS:PUBLIC
STATUS:CONFIRMED
TRANSP:TRANSPARENT
SEQUENCE:1
END:VEVENT
END:VCALENDAR
