BEGIN:VCALENDAR
VERSION:2.0
BEGIN:VEVENT
UID:AD2A8A1D-7DB2-4BEF-B60E-121B40E3C07E
DTSTART:20241011T120000Z
DTEND:20241011T130000Z
SUMMARY:Red River Singoff at Galleria Dallas
DESCRIPTION:Of the hundreds of thousands who descend upon North Texas for t
 he famed Red River Rivalry between the University of Texas and the Univers
 ity of Oklahoma each fall\, the most talented among them will perform cent
 erstage – or at least at Center Court – at Galleria Dallas. In what has be
 come a Galleria Dallas tradition\, nationally recognized choral groups fro
 m both universities will perform a free concert for fans at Galleria Dalla
 s on Friday\, Oct. 11.  \nFans are invited to share their team spirit with
  photo opportunities in the new outdoor plaza and with the spirited balloo
 ns which rise above the Galleria Ice Skating Center. Various retailers at
  the famed shopping center offer special discounts to those visiting durin
 g the weekend from out of town.\nGalleria Dallas\n13350 Dallas Parkway\,\n
 Dallas\, TX\, TX 75240 United States\n
LOCATION:13350 Dallas Parkway\,\, Dallas\, TX\, TX 75240
URL:http://addison.bubblelife.com/community/addison_calendar/library/356744
 01/key/3511888412/Red_River_Singoff_at_Galleria_Dallas
CREATED:20241001T154119Z
LAST-MODIFIED:20241001T154119Z
DTSTAMP:20260423T031143Z
CLASS:PUBLIC
STATUS:CONFIRMED
TRANSP:TRANSPARENT
SEQUENCE:1
END:VEVENT
END:VCALENDAR
