BEGIN:VCALENDAR
VERSION:2.0
BEGIN:VEVENT
UID:197A0FA6-65BE-476E-A11B-DE9245339157
DTSTART:20241214T120000Z
DTEND:20241214T200000Z
SUMMARY:CityLine Merry Market
DESCRIPTION:Get ready to experience the magic of the holidays at CityLine i
 n Richardson as it transforms into a festive wonderland all December long
  with “A Very Merry CityLIne!” This holiday season offers something for ev
 eryone\, with the return of festive favorites like The North Pole in The P
 laza presented by State Farm\, the expanded two-night Merry Market and the
  Hot Cocoa Crawl. \nIf you’re on the hunt for the perfect gift\, you’re in
  for a treat! CityLine’s Merry Market \, in partnership with The Boho Mark
 et\, is returning with exciting new additions for 2024. This year\, we’re
  thrilled to introduce an expanded lineup of local vendors and a special F
 riday night shopping experience. Join us from 6 to 10 p.m. Friday\, Dec. 1
 3 and 12 to 8 p.m. on Saturday\, Dec. 14\, to explore over 100 vendors off
 ering a variety of handmade and vintage goods\, unique gifts and more acro
 ss CityLine Plaza and State Street. \nBring your family\, friends and pets
  to enjoy a festive weekend filled with live music including a jazz band\,
  engaging kids’ activities and holiday cheer.\nCityLine Plaza\n1150 State
  St\nRichardson\, TX 75082 United States\n
LOCATION:1150 State St\, Richardson\, TX 75082
URL:http://addison.bubblelife.com/community/addison_calendar/library/356744
 01/key/3511889323/CityLine_Merry_Market
CREATED:20241001T134706Z
LAST-MODIFIED:20241001T134706Z
DTSTAMP:20260423T013218Z
CLASS:PUBLIC
STATUS:CONFIRMED
TRANSP:TRANSPARENT
SEQUENCE:1
END:VEVENT
END:VCALENDAR
